BEGIN:VCALENDAR
METHOD:PUBLISH
PRODID:-//doubleknot.com//CalenderEvent MIMEDIR//EN
VERSION:2.0
BEGIN:VEVENT
UID:3088131-20250729T220000Z-20250730T000000Z@doubleknot.com
CREATED:20241219T204516Z
LAST-MODIFIED:20250514T134237Z
DTSTAMP:20260420T162747Z
DTSTART:20250729T220000Z
DTEND:20250730T000000Z
LOCATION:Hy-Vee Blue Springs, 625 U S 40 Hwy, Blue Springs, MO 64014, US
CATEGORIES:K-5 Activities
DESCRIPTION:Hey Juniors! Let&rsquo;s learn to stay fit! We will meet together with HyVee in Blue Springs and get inspired to start moving, combat stress, get some real truths about what heathy living is, all while fueling our bodies to do it all! Juniors will complete the full Staying Fit badge with Hy-Vee dieticians and GSKSMO staff. \n  \n  \n Troop Level: Junior (4th - 5th) \n 
SUMMARY:Staying Fit Badge Workshop with Hy-Vee
PRIORITY:5
BEGIN:VALARM
TRIGGER:PT15M
ACTION:DISPLAY
DESCRIPTION:Reminder
PRIORITY:5
END:VALARM
END:VEVENT
END:VCALENDAR
